BEGIN:VCALENDAR
VERSION:2.0
PRODID:-//Young Public School District - ECPv6.15.17.1//NONSGML v1.0//EN
CALSCALE:GREGORIAN
METHOD:PUBLISH
X-ORIGINAL-URL:https://www.youngschool.org
X-WR-CALDESC:Events for Young Public School District
REFRESH-INTERVAL;VALUE=DURATION:PT1H
X-Robots-Tag:noindex
X-PUBLISHED-TTL:PT1H
BEGIN:VTIMEZONE
TZID:America/Phoenix
BEGIN:STANDARD
TZOFFSETFROM:-0700
TZOFFSETTO:-0700
TZNAME:MST
DTSTART:20260101T000000
END:STANDARD
END:VTIMEZONE
BEGIN:VEVENT
DTSTART;VALUE=DATE:20270322
DTEND;VALUE=DATE:20270326
DTSTAMP:20260419T143313
CREATED:20260318T201724Z
LAST-MODIFIED:20260318T201724Z
UID:10000218-1805673600-1806019199@www.youngschool.org
SUMMARY:Spring Break - No School
DESCRIPTION:
URL:https://www.youngschool.org/event/spring-break-no-school-3
END:VEVENT
END:VCALENDAR