BEGIN:VCALENDAR
VERSION:2.0
PRODID:-//Young Public School District - ECPv6.15.17.1//NONSGML v1.0//EN
CALSCALE:GREGORIAN
METHOD:PUBLISH
X-WR-CALNAME:Young Public School District
X-ORIGINAL-URL:https://www.youngschool.org
X-WR-CALDESC:Events for Young Public School District
REFRESH-INTERVAL;VALUE=DURATION:PT1H
X-Robots-Tag:noindex
X-PUBLISHED-TTL:PT1H
BEGIN:VTIMEZONE
TZID:America/Phoenix
BEGIN:STANDARD
TZOFFSETFROM:-0700
TZOFFSETTO:-0700
TZNAME:MST
DTSTART:20250101T000000
END:STANDARD
END:VTIMEZONE
BEGIN:VEVENT
DTSTART;VALUE=DATE:20261111
DTEND;VALUE=DATE:20261112
DTSTAMP:20260419T064212
CREATED:20260318T200941Z
LAST-MODIFIED:20260318T200941Z
UID:10000212-1794355200-1794441599@www.youngschool.org
SUMMARY:Veterans Day - No School
DESCRIPTION:
URL:https://www.youngschool.org/event/veterans-day-no-school-3
END:VEVENT
BEGIN:VEVENT
DTSTART;VALUE=DATE:20261112
DTEND;VALUE=DATE:20261113
DTSTAMP:20260419T064212
CREATED:20260318T201027Z
LAST-MODIFIED:20260318T201027Z
UID:10000213-1794441600-1794527999@www.youngschool.org
SUMMARY:No School
DESCRIPTION:
URL:https://www.youngschool.org/event/no-school-2
END:VEVENT
BEGIN:VEVENT
DTSTART;VALUE=DATE:20261125
DTEND;VALUE=DATE:20261127
DTSTAMP:20260419T064212
CREATED:20260318T201127Z
LAST-MODIFIED:20260318T201127Z
UID:10000214-1795564800-1795737599@www.youngschool.org
SUMMARY:Thanksgiving Break - No School
DESCRIPTION:
URL:https://www.youngschool.org/event/thanksgiving-break-no-school-2
END:VEVENT
END:VCALENDAR