BEGIN:VCALENDAR
VERSION:2.0
PRODID:-//Young Public School District - ECPv6.15.17.1//NONSGML v1.0//EN
CALSCALE:GREGORIAN
METHOD:PUBLISH
X-ORIGINAL-URL:https://www.youngschool.org
X-WR-CALDESC:Events for Young Public School District
REFRESH-INTERVAL;VALUE=DURATION:PT1H
X-Robots-Tag:noindex
X-PUBLISHED-TTL:PT1H
BEGIN:VTIMEZONE
TZID:America/Phoenix
BEGIN:STANDARD
TZOFFSETFROM:-0700
TZOFFSETTO:-0700
TZNAME:MST
DTSTART:20250101T000000
END:STANDARD
END:VTIMEZONE
BEGIN:VEVENT
DTSTART;VALUE=DATE:20261221
DTEND;VALUE=DATE:20270102
DTSTAMP:20260419T094045
CREATED:20260318T201251Z
LAST-MODIFIED:20260318T201251Z
UID:10000215-1797811200-1798847999@www.youngschool.org
SUMMARY:Winter Break - No School
DESCRIPTION:
URL:https://www.youngschool.org/event/winter-break-no-school-2
END:VEVENT
BEGIN:VEVENT
DTSTART;VALUE=DATE:20270118
DTEND;VALUE=DATE:20270119
DTSTAMP:20260419T094045
CREATED:20260318T201405Z
LAST-MODIFIED:20260318T201405Z
UID:10000216-1800230400-1800316799@www.youngschool.org
SUMMARY:Martin Luther King\, Jr. Day - No School
DESCRIPTION:
URL:https://www.youngschool.org/event/martin-luther-king-jr-day-no-school-2
END:VEVENT
END:VCALENDAR